BEGIN:VCALENDAR
VERSION:2.0
PRODID:-//www.schule-moehlin.ch//NONSGML kigkonsult.se iCalcreator 2.22//
CALSCALE:GREGORIAN
METHOD:PUBLISH
X-WR-TIMEZONE:Europe/Berlin
BEGIN:VEVENT
UID:20260423T011607CEST-40126bxITo@www.schule-moehlin.ch
DTSTAMP:20260422T231607Z
DESCRIPTION:Klicken Sie auf den folgenden Link\, um weitere Informationen z
 ur Veranstaltung zu erhalten:\nhttp://www.schule-moehlin.ch/de/veranstaltu
 ngen/detail/detail.php?i=2763
DTSTART:20260616T183000
DTEND:20260618T220000
LOCATION:Vereinslokal Samariterverein
SUMMARY:Notfälle bei Kindern 5 - 15 Jahren
END:VEVENT
END:VCALENDAR
