BEGIN:VCALENDAR
VERSION:2.0
PRODID:-//www.schule-moehlin.ch//NONSGML kigkonsult.se iCalcreator 2.22//
CALSCALE:GREGORIAN
METHOD:PUBLISH
X-WR-TIMEZONE:Europe/Berlin
BEGIN:VEVENT
UID:20260423T011607CEST-3422JRvOr3@www.schule-moehlin.ch
DTSTAMP:20260422T231607Z
DESCRIPTION:Klicken Sie auf den folgenden Link\, um weitere Informationen z
 ur Veranstaltung zu erhalten:\nhttp://www.schule-moehlin.ch/de/veranstaltu
 ngen/detail/detail.php?i=2767
DTSTART:20261029T190000
DTEND:20261029T220000
LOCATION:Vereinslokal Samariterverein
SUMMARY:Nothilfe Refresherkurs
END:VEVENT
END:VCALENDAR
