BEGIN:VCALENDAR
VERSION:2.0
PRODID:-//www.schule-moehlin.ch//NONSGML kigkonsult.se iCalcreator 2.22//
CALSCALE:GREGORIAN
METHOD:PUBLISH
X-WR-TIMEZONE:Europe/Berlin
BEGIN:VEVENT
UID:20260423T011553CEST-0114DasgzE@www.schule-moehlin.ch
DTSTAMP:20260422T231553Z
DESCRIPTION:Klicken Sie auf den folgenden Link\, um weitere Informationen z
 ur Veranstaltung zu erhalten:\nhttp://www.schule-moehlin.ch/de/veranstaltu
 ngen/detail/detail.php?i=3131
DTSTART:20261019T170000
DTEND:20261019T200000
LOCATION:Mehrzweckhalle Fuchsrain
SUMMARY:Blutspenden
END:VEVENT
END:VCALENDAR
