BEGIN:VCALENDAR
VERSION:2.0
PRODID:-//www.schule-moehlin.ch//NONSGML kigkonsult.se iCalcreator 2.22//
CALSCALE:GREGORIAN
METHOD:PUBLISH
X-WR-TIMEZONE:Europe/Berlin
BEGIN:VEVENT
UID:20260423T011308CEST-6679u8njk4@www.schule-moehlin.ch
DTSTAMP:20260422T231308Z
DESCRIPTION:Klicken Sie auf den folgenden Link\, um weitere Informationen z
 ur Veranstaltung zu erhalten:\nhttp://www.schule-moehlin.ch/de/veranstaltu
 ngen/detail/detail.php?i=3147
DTSTART:20260424T190000
DTEND:20260424T220000
LOCATION:Pfarreizentrum Schallen
SUMMARY:FORTIFY - ökum. christlicher Jugendevent der besonderen Art
END:VEVENT
END:VCALENDAR
