BEGIN:VCALENDAR
VERSION:2.0
PRODID:-//www.schule-moehlin.ch//NONSGML kigkonsult.se iCalcreator 2.22//
CALSCALE:GREGORIAN
METHOD:PUBLISH
X-WR-TIMEZONE:Europe/Berlin
BEGIN:VEVENT
UID:20260423T011152CEST-5018S6ZET1@www.schule-moehlin.ch
DTSTAMP:20260422T231152Z
DESCRIPTION:Klicken Sie auf den folgenden Link\, um weitere Informationen z
 ur Veranstaltung zu erhalten:\nhttp://www.schule-moehlin.ch/de/veranstaltu
 ngen/detail/detail.php?i=3148
DTSTART:20260625T193000
DTEND:20260625T220000
LOCATION:Mehrzweckhalle Fuchsrain Möhlin
SUMMARY:Einwohnergemeindeversammlung Möhlin
END:VEVENT
END:VCALENDAR
