BEGIN:VCALENDAR
VERSION:2.0
PRODID:-//www.schule-moehlin.ch//NONSGML kigkonsult.se iCalcreator 2.22//
CALSCALE:GREGORIAN
METHOD:PUBLISH
X-WR-TIMEZONE:Europe/Berlin
BEGIN:VEVENT
UID:20260423T011147CEST-0097AlfpV1@www.schule-moehlin.ch
DTSTAMP:20260422T231147Z
DESCRIPTION:Klicken Sie auf den folgenden Link\, um weitere Informationen z
 ur Veranstaltung zu erhalten:\nhttp://www.schule-moehlin.ch/de/veranstaltu
 ngen/detail/detail.php?i=3149
DTSTART:20261126T193000
DTEND:20261126T220000
LOCATION:Mehrzweckhalle Fuchsrain Möhlin
SUMMARY:Einwohnergemeindeversammlung Möhlin
END:VEVENT
END:VCALENDAR
