BEGIN:VCALENDAR
VERSION:2.0
PRODID:-//www.schule-moehlin.ch//NONSGML kigkonsult.se iCalcreator 2.22//
CALSCALE:GREGORIAN
METHOD:PUBLISH
X-WR-TIMEZONE:Europe/Berlin
BEGIN:VEVENT
UID:20260423T011318CEST-73473ivRzU@www.schule-moehlin.ch
DTSTAMP:20260422T231318Z
DESCRIPTION:Klicken Sie auf den folgenden Link\, um weitere Informationen z
 ur Veranstaltung zu erhalten:\nhttp://www.schule-moehlin.ch/de/veranstaltu
 ngen/detail/detail.php?i=3150
DTSTART:20260629T193000
DTEND:20260629T220000
LOCATION:Waldhaus Sonnenberg Möhlin
SUMMARY:Ortsbürgergemeindeversammlung Möhlin
END:VEVENT
END:VCALENDAR
