BEGIN:VCALENDAR
VERSION:2.0
PRODID:-//www.schule-moehlin.ch//NONSGML kigkonsult.se iCalcreator 2.22//
CALSCALE:GREGORIAN
METHOD:PUBLISH
X-WR-TIMEZONE:Europe/Berlin
BEGIN:VEVENT
UID:20260423T011151CEST-75971aVOlv@www.schule-moehlin.ch
DTSTAMP:20260422T231151Z
DESCRIPTION:Klicken Sie auf den folgenden Link\, um weitere Informationen z
 ur Veranstaltung zu erhalten:\nhttp://www.schule-moehlin.ch/de/veranstaltu
 ngen/detail/detail.php?i=3158
DTSTART:20260427T190000
DTEND:20260427T200000
LOCATION:Reformierte Kirche/ Im Gemeindesaal
SUMMARY:Offenes Singen 
END:VEVENT
END:VCALENDAR
