BEGIN:VCALENDAR
VERSION:2.0
PRODID:-//www.schule-moehlin.ch//NONSGML kigkonsult.se iCalcreator 2.22//
CALSCALE:GREGORIAN
METHOD:PUBLISH
X-WR-TIMEZONE:Europe/Berlin
BEGIN:VEVENT
UID:20260423T011157CEST-2370F9S8fP@www.schule-moehlin.ch
DTSTAMP:20260422T231157Z
DESCRIPTION:Klicken Sie auf den folgenden Link\, um weitere Informationen z
 ur Veranstaltung zu erhalten:\nhttp://www.schule-moehlin.ch/de/veranstaltu
 ngen/detail/detail.php?i=3163
DTSTART:20261209T143000
DTEND:20261209T160000
LOCATION:Gemeindebibliothek Möhlin
SUMMARY:KinderKinoMittwoch
END:VEVENT
END:VCALENDAR
