BEGIN:VCALENDAR
VERSION:2.0
PRODID:-//www.schule-moehlin.ch//NONSGML kigkonsult.se iCalcreator 2.22//
CALSCALE:GREGORIAN
METHOD:PUBLISH
X-WR-TIMEZONE:Europe/Berlin
BEGIN:VEVENT
UID:20260423T011146CEST-5603easO7M@www.schule-moehlin.ch
DTSTAMP:20260422T231146Z
DESCRIPTION:Klicken Sie auf den folgenden Link\, um weitere Informationen z
 ur Veranstaltung zu erhalten:\nhttp://www.schule-moehlin.ch/de/veranstaltu
 ngen/detail/detail.php?i=3165
DTSTART:20260923T143000
DTEND:20260923T163000
LOCATION:Gemeindebibliothek Möhlin
SUMMARY:Nintendo Switch Mario-Kart 8
END:VEVENT
END:VCALENDAR
