BEGIN:VCALENDAR
VERSION:2.0
PRODID:-//www.schule-moehlin.ch//NONSGML kigkonsult.se iCalcreator 2.22//
CALSCALE:GREGORIAN
METHOD:PUBLISH
X-WR-TIMEZONE:Europe/Berlin
BEGIN:VEVENT
UID:20260423T154459CEST-9604CekAAW@www.schule-moehlin.ch
DTSTAMP:20260423T134459Z
DESCRIPTION:Klicken Sie auf den folgenden Link\, um weitere Informationen z
 ur Veranstaltung zu erhalten:\nhttp://www.schule-moehlin.ch/schule/veranst
 altungen/detail/detail.php?i=624
DTSTART:20260513T000000
LOCATION:
SUMMARY:Interne Weiterbildung
END:VEVENT
END:VCALENDAR
