BEGIN:VCALENDAR
VERSION:2.0
PRODID:-//www.schule-moehlin.ch//NONSGML kigkonsult.se iCalcreator 2.22//
CALSCALE:GREGORIAN
METHOD:PUBLISH
X-WR-TIMEZONE:Europe/Berlin
BEGIN:VEVENT
UID:20260423T184409CEST-4430KV2euV@www.schule-moehlin.ch
DTSTAMP:20260423T164409Z
DESCRIPTION:Klicken Sie auf den folgenden Link\, um weitere Informationen z
 ur Veranstaltung zu erhalten:\nhttp://www.schule-moehlin.ch/schule/veranst
 altungen/detail/detail.php?i=627
DTSTART:20260608T193000
DTEND:20260608T203000
LOCATION:
SUMMARY:Begrüssungsanlass der 1. OS-Schülerinnen und Schüler
END:VEVENT
END:VCALENDAR
