BEGIN:VCALENDAR
VERSION:2.0
PRODID:-//www.schule-moehlin.ch//NONSGML kigkonsult.se iCalcreator 2.22//
CALSCALE:GREGORIAN
METHOD:PUBLISH
X-WR-TIMEZONE:Europe/Berlin
BEGIN:VEVENT
UID:20260423T184951CEST-0042XdDFvK@www.schule-moehlin.ch
DTSTAMP:20260423T164951Z
DESCRIPTION:Klicken Sie auf den folgenden Link\, um weitere Informationen z
 ur Veranstaltung zu erhalten:\nhttp://www.schule-moehlin.ch/schule/veranst
 altungen/detail/detail.php?i=630
DTSTART:20260703T114500
DTEND:20260703T000000
LOCATION:Steinli Halle A
SUMMARY:Schulschluss vor den Sommerferien
END:VEVENT
END:VCALENDAR
